BEGIN:VCALENDAR
VERSION:2.0
PRODID:-//Svenska Kockars Förening - ECPv6.3.5//NONSGML v1.0//EN
CALSCALE:GREGORIAN
METHOD:PUBLISH
X-ORIGINAL-URL:https://www.svenskakockarsforening.se
X-WR-CALDESC:Events for Svenska Kockars Förening
REFRESH-INTERVAL;VALUE=DURATION:PT1H
X-Robots-Tag:noindex
X-PUBLISHED-TTL:PT1H
BEGIN:VTIMEZONE
TZID:Europe/Stockholm
BEGIN:DAYLIGHT
TZOFFSETFROM:+0100
TZOFFSETTO:+0200
TZNAME:CEST
DTSTART:20240331T010000
END:DAYLIGHT
BEGIN:STANDARD
TZOFFSETFROM:+0200
TZOFFSETTO:+0100
TZNAME:CET
DTSTART:20241027T010000
END:STANDARD
END:VTIMEZONE
BEGIN:VEVENT
DTSTART;TZID=Europe/Stockholm:20241031T180000
DTEND;TZID=Europe/Stockholm:20241031T180000
DTSTAMP:20260422T225702
CREATED:20240828T183614Z
LAST-MODIFIED:20240828T183721Z
UID:4126-1730397600-1730397600@www.svenskakockarsforening.se
SUMMARY:SKF Skåne
DESCRIPTION:AW med SKF Skåne
URL:https://www.svenskakockarsforening.se/event/skf-skane-4/
LOCATION:Hyllie Taproom\, Stormgatan 15\, Malmö\, 21120
CATEGORIES:Distrikt Skåne
ATTACH;FMTTYPE=image/png:https://www.svenskakockarsforening.se/wp-content/uploads/2024/01/SKF-eventlogo1.png
END:VEVENT
END:VCALENDAR