BEGIN:VCALENDAR
VERSION:2.0
PRODID:-//Svenska Kockars Förening - ECPv6.3.5//NONSGML v1.0//EN
CALSCALE:GREGORIAN
METHOD:PUBLISH
X-WR-CALNAME:Svenska Kockars Förening
X-ORIGINAL-URL:https://www.svenskakockarsforening.se
X-WR-CALDESC:Events for Svenska Kockars Förening
REFRESH-INTERVAL;VALUE=DURATION:PT1H
X-Robots-Tag:noindex
X-PUBLISHED-TTL:PT1H
BEGIN:VTIMEZONE
TZID:Europe/Stockholm
BEGIN:DAYLIGHT
TZOFFSETFROM:+0100
TZOFFSETTO:+0200
TZNAME:CEST
DTSTART:20240331T010000
END:DAYLIGHT
BEGIN:STANDARD
TZOFFSETFROM:+0200
TZOFFSETTO:+0100
TZNAME:CET
DTSTART:20241027T010000
END:STANDARD
END:VTIMEZONE
BEGIN:VEVENT
DTSTART;TZID=Europe/Stockholm:20241106T180000
DTEND;TZID=Europe/Stockholm:20241106T220000
DTSTAMP:20260425T004012
CREATED:20241002T152524Z
LAST-MODIFIED:20241002T152651Z
UID:4421-1730916000-1730930400@www.svenskakockarsforening.se
SUMMARY:SKF Östergötland
DESCRIPTION:Vi bjuder in till 3-krogars runda i Norrköping för våra medlemmar och vänner. \nDen 6/11 är det dags och mer information kommer när vi närmar oss så boka in detta datum redan nu.
URL:https://www.svenskakockarsforening.se/event/skf-ostergotland-4/
LOCATION:Norrköping
CATEGORIES:Distrikt Östergötland
ATTACH;FMTTYPE=image/png:https://www.svenskakockarsforening.se/wp-content/uploads/2024/01/SKF-eventlogo1.png
END:VEVENT
BEGIN:VEVENT
DTSTART;TZID=Europe/Stockholm:20241010T000000
DTEND;TZID=Europe/Stockholm:20241010T000000
DTSTAMP:20260425T004012
CREATED:20241002T152205Z
LAST-MODIFIED:20241002T152205Z
UID:4419-1728518400-1728518400@www.svenskakockarsforening.se
SUMMARY:SKF Östergötland
DESCRIPTION:SKF Östergötland har digitalt styrelsemöte
URL:https://www.svenskakockarsforening.se/event/skf-ostergotland-3/
CATEGORIES:Distrikt Östergötland
ATTACH;FMTTYPE=image/png:https://www.svenskakockarsforening.se/wp-content/uploads/2024/01/SKF-eventlogo1.png
END:VEVENT
BEGIN:VEVENT
DTSTART;TZID=Europe/Stockholm:20240306T180000
DTEND;TZID=Europe/Stockholm:20240306T200000
DTSTAMP:20260425T004012
CREATED:20240114T120123Z
LAST-MODIFIED:20240114T120123Z
UID:2982-1709748000-1709755200@www.svenskakockarsforening.se
SUMMARY:SKF Östergötland
DESCRIPTION:Årsmöte för SKF Östergötland
URL:https://www.svenskakockarsforening.se/event/skf-ostergotland/
CATEGORIES:Distrikt Östergötland
ATTACH;FMTTYPE=image/png:https://www.svenskakockarsforening.se/wp-content/uploads/2024/01/SKF-eventlogo1.png
END:VEVENT
BEGIN:VEVENT
DTSTART;TZID=Europe/Stockholm:20240124T175500
DTEND;TZID=Europe/Stockholm:20240124T220000
DTSTAMP:20260425T004012
CREATED:20240112T135300Z
LAST-MODIFIED:20240912T085654Z
UID:2932-1706118900-1706133600@www.svenskakockarsforening.se
SUMMARY:SKF Östergötland
DESCRIPTION:Tre krogarsrunda.\nVi äter förrätt\, varmrätt och dessert på tre olika krogar i Linköping. \nVi träffas kl 17:55 på Stora Torget vid Folke Filbyterstatyn. \nPriset kommer hamna på 600 kronor och och betalas på plats via swish till kassören. Priset inkluderar tre olika rätter på tre olika krogar. Dryck beställs och betalas av var och en på plats på respektive restaurang. \nSista dagen för anmälan är söndagen den 21/1. Anmäl er via mail till thomas.collin@svenskakockarsforening.se eller via sms till 070 131 46 82. \nVarmt välkomna önskar styrelsen
URL:https://www.svenskakockarsforening.se/event/tre-krogarsrunda/
LOCATION:Stora torget Linköping\, Stora torget\, Linköping\, 58219
CATEGORIES:Distrikt Östergötland
ATTACH;FMTTYPE=image/png:https://www.svenskakockarsforening.se/wp-content/uploads/2024/01/SKF-eventlogo1.png
ORGANIZER;CN="SKF %C3%96sterg%C3%B6tland":MAILTO:thomas.collin@svenskakockarsforening.se
END:VEVENT
END:VCALENDAR