BEGIN:VCALENDAR
VERSION:2.0
PRODID:-//Svenska Kockars Förening - ECPv6.3.5//NONSGML v1.0//EN
CALSCALE:GREGORIAN
METHOD:PUBLISH
X-ORIGINAL-URL:https://www.svenskakockarsforening.se
X-WR-CALDESC:Events for Svenska Kockars Förening
REFRESH-INTERVAL;VALUE=DURATION:PT1H
X-Robots-Tag:noindex
X-PUBLISHED-TTL:PT1H
BEGIN:VTIMEZONE
TZID:Europe/Stockholm
BEGIN:DAYLIGHT
TZOFFSETFROM:+0100
TZOFFSETTO:+0200
TZNAME:CEST
DTSTART:20240331T010000
END:DAYLIGHT
BEGIN:STANDARD
TZOFFSETFROM:+0200
TZOFFSETTO:+0100
TZNAME:CET
DTSTART:20241027T010000
END:STANDARD
BEGIN:DAYLIGHT
TZOFFSETFROM:+0100
TZOFFSETTO:+0200
TZNAME:CEST
DTSTART:20250330T010000
END:DAYLIGHT
BEGIN:STANDARD
TZOFFSETFROM:+0200
TZOFFSETTO:+0100
TZNAME:CET
DTSTART:20251026T010000
END:STANDARD
END:VTIMEZONE
BEGIN:VEVENT
DTSTART;TZID=Europe/Stockholm:20241121T180000
DTEND;TZID=Europe/Stockholm:20241121T210000
DTSTAMP:20260423T050303
CREATED:20240929T083426Z
LAST-MODIFIED:20241009T134309Z
UID:4381-1732212000-1732222800@www.svenskakockarsforening.se
SUMMARY:Beaujolais Nouveau
DESCRIPTION:Nu är det dags igen! Välkommen till vår årliga fest för Beaujolais Nouveau – ett friskt\, fruktigt och alldeles nykläckt rödvin direkt från hjärtat av Beaujolais i Frankrike! Det här unga vinet\, gjort på Gamay-druvor\, är fullt av bäriga smaker som jordgubb och körsbär och är redo att avnjutas bara några veckor efter skörden. Och vi ska vara bland de första att skåla för årets tappning! \nVi ses på Burgården kl. 18.00 för en kväll fylld med gott vin och härligt sällskap. Medlemmar betalar 300 kr\, icke-medlemmar 450 kr! Mat och dryck ingår i detta pris. Swisha till 1231298710. \nVid frågor kontakta gun.karlsson@svenskakockarsforening.se \n  \nMissa inte denna chans att fira årets nya vin på bästa sätt!
URL:https://www.svenskakockarsforening.se/event/beaujolais-nouveau/
LOCATION:Burgården\, Skånegatan 20\, Göteborg\, 412 52\, Sverige
END:VEVENT
BEGIN:VEVENT
DTSTART;TZID=Europe/Stockholm:20241121T180000
DTEND;TZID=Europe/Stockholm:20241121T210000
DTSTAMP:20260423T050303
CREATED:20240929T084315Z
LAST-MODIFIED:20241009T134040Z
UID:4385-1732212000-1732222800@www.svenskakockarsforening.se
SUMMARY:SKF Väst
DESCRIPTION:Nu är det dags igen! Välkommen till vår årliga fest för Beaujolais Nouveau – ett friskt\, fruktigt och alldeles nykläckt rödvin direkt från hjärtat av Beaujolais i Frankrike! Det här unga vinet\, gjort på Gamay-druvor\, är fullt av bäriga smaker som jordgubb och körsbär och är redo att avnjutas bara några veckor efter skörden. Och vi ska vara bland de första att skåla för årets tappning! \n  \nVi ses på Burgården kl. 18.00 för en kväll fylld med gott vin och härligt sällskap. Medlemmar betalar 300 kr\, icke-medlemmar 450 kr! Mat och dryck ingår i detta pris. Swisha till 1231298710. Missa inte denna chans att fira årets nya vin på bästa sätt! Vid frågor kontakta gun.karlsson@svenskakockarsforening.se \n 
URL:https://www.svenskakockarsforening.se/event/skf-vast-4/
LOCATION:Burgården\, Skånegatan 20\, Göteborg\, 412 52\, Sverige
CATEGORIES:Distrikt Väst
ATTACH;FMTTYPE=image/png:https://www.svenskakockarsforening.se/wp-content/uploads/2024/01/SKF-eventlogo1.png
END:VEVENT
BEGIN:VEVENT
DTSTART;TZID=Europe/Stockholm:20241122T170000
DTEND;TZID=Europe/Stockholm:20241122T200000
DTSTAMP:20260423T050303
CREATED:20241002T153156Z
LAST-MODIFIED:20241002T153156Z
UID:4424-1732294800-1732305600@www.svenskakockarsforening.se
SUMMARY:SKF Väst
DESCRIPTION:After Work \nLär känns Svenska Kockars Förening under avslappnande och trevliga former! Vi bjuder in dig till en After Work den 22/11 på ”biblioteket! på Bishop Arms i Göteborg. \nDetta är ett perfekt tillfälle för dig som är nyfiken på vad medlemskap i föreningen innebär\, eller om du bara vill mingla och nätverka med andra matintresserade. Självklart är våra nu varnade medlemmar varmt välkomna. \nVi ser fram mot en härlig kväll där vi pratar mat\, gastronomi och allt däremellan. Droppa in från kl 17.00- Vi ses där!
URL:https://www.svenskakockarsforening.se/event/skf-vast-5/
LOCATION:Bishop Arms Göteborg\, Kungsportsavenyn 36\, Göteborg\, Sverige
CATEGORIES:Distrikt Väst
ATTACH;FMTTYPE=image/png:https://www.svenskakockarsforening.se/wp-content/uploads/2024/01/SKF-eventlogo1.png
END:VEVENT
BEGIN:VEVENT
DTSTART;TZID=Europe/Stockholm:20241128T180000
DTEND;TZID=Europe/Stockholm:20241128T180000
DTSTAMP:20260423T050303
CREATED:20240828T183912Z
LAST-MODIFIED:20240828T185131Z
UID:4129-1732816800-1732816800@www.svenskakockarsforening.se
SUMMARY:SKF Skåne
DESCRIPTION:AW med SKF Skåne
URL:https://www.svenskakockarsforening.se/event/skf-skane-5/
LOCATION:Hyllie Taproom\, Stormgatan 15\, Malmö\, 21120
CATEGORIES:Distrikt Skåne
ATTACH;FMTTYPE=image/png:https://www.svenskakockarsforening.se/wp-content/uploads/2024/01/SKF-eventlogo1.png
END:VEVENT
BEGIN:VEVENT
DTSTART;TZID=Europe/Stockholm:20250103T170000
DTEND;TZID=Europe/Stockholm:20250103T190000
DTSTAMP:20260423T050303
CREATED:20240902T085203Z
LAST-MODIFIED:20240912T085325Z
UID:4266-1735923600-1735930800@www.svenskakockarsforening.se
SUMMARY:SKF Småland
DESCRIPTION:Varmt välkommen på vår After Work i Småland med Svenska Kockars Förening. Träffa medlemmar i föreningen och få senaste nytt om kommande medlemsaktiviteter och förmåner. \nTag gärna med en Branschkollega som du tycker borde bli medlem i Sveriges bästa bransch-nätverk för professionella matlagare.
URL:https://www.svenskakockarsforening.se/event/skf-smaland-3/
LOCATION:Sláinte Pub & Restaurang
CATEGORIES:Distrikt Småland
ATTACH;FMTTYPE=image/png:https://www.svenskakockarsforening.se/wp-content/uploads/2024/01/SKF-eventlogo1.png
END:VEVENT
BEGIN:VEVENT
DTSTART;TZID=Europe/Stockholm:20250120T180000
DTEND;TZID=Europe/Stockholm:20250120T203000
DTSTAMP:20260423T050303
CREATED:20250119T182712Z
LAST-MODIFIED:20250119T182712Z
UID:4846-1737396000-1737405000@www.svenskakockarsforening.se
SUMMARY:Inspirationsträff med Maria Svensson
DESCRIPTION:Inspirationsträff med Maria Svensson från Miljö & Hälsa i Malmö.
URL:https://www.svenskakockarsforening.se/event/inspirationstraff-med-maria-svensson/
LOCATION:Martin och Serveras Malmökontor\, Blidögatan 27\, Malmö\, Sweden
CATEGORIES:Distrikt Skåne
ATTACH;FMTTYPE=image/png:https://www.svenskakockarsforening.se/wp-content/uploads/2024/01/SKF-eventlogo1.png
END:VEVENT
BEGIN:VEVENT
DTSTART;TZID=Europe/Stockholm:20250228T170000
DTEND;TZID=Europe/Stockholm:20250228T190000
DTSTAMP:20260423T050303
CREATED:20240902T085019Z
LAST-MODIFIED:20240912T085144Z
UID:4263-1740762000-1740769200@www.svenskakockarsforening.se
SUMMARY:SKF Småland
DESCRIPTION:Varmt välkommen på vår After Work i Småland med Svenska Kockars Förening. Träffa medlemmar i föreningen och få senaste nytt om kommande medlemsaktiviteter och förmåner. \nTag gärna med en Branschkollega som du tycker borde bli medlem i Sveriges bästa bransch-nätverk för professionella matlagare. \nRestaurang uppdateras inom kort.
URL:https://www.svenskakockarsforening.se/event/skf-smaland-2/
LOCATION:Oskarshamn
CATEGORIES:Distrikt Småland
ATTACH;FMTTYPE=image/png:https://www.svenskakockarsforening.se/wp-content/uploads/2024/01/SKF-eventlogo1.png
END:VEVENT
BEGIN:VEVENT
DTSTART;TZID=Europe/Stockholm:20250314T080000
DTEND;TZID=Europe/Stockholm:20250315T170000
DTSTAMP:20260423T050303
CREATED:20250119T183358Z
LAST-MODIFIED:20250119T183358Z
UID:4854-1741939200-1742058000@www.svenskakockarsforening.se
SUMMARY:NKF
DESCRIPTION:Nordiska kockars förening har möte i Malmö på Turning Torso
URL:https://www.svenskakockarsforening.se/event/nkf/
LOCATION:Turning Torso\, Malmö\, Sweden
CATEGORIES:Riks
ATTACH;FMTTYPE=image/png:https://www.svenskakockarsforening.se/wp-content/uploads/2024/01/SKF-eventlogo1.png
END:VEVENT
END:VCALENDAR