BEGIN:VCALENDAR
VERSION:2.0
PRODID:-//Svenska Kockars Förening - ECPv6.3.5//NONSGML v1.0//EN
CALSCALE:GREGORIAN
METHOD:PUBLISH
X-WR-CALNAME:Svenska Kockars Förening
X-ORIGINAL-URL:https://www.svenskakockarsforening.se
X-WR-CALDESC:Events for Svenska Kockars Förening
REFRESH-INTERVAL;VALUE=DURATION:PT1H
X-Robots-Tag:noindex
X-PUBLISHED-TTL:PT1H
BEGIN:VTIMEZONE
TZID:Europe/Stockholm
BEGIN:DAYLIGHT
TZOFFSETFROM:+0100
TZOFFSETTO:+0200
TZNAME:CEST
DTSTART:20240331T010000
END:DAYLIGHT
BEGIN:STANDARD
TZOFFSETFROM:+0200
TZOFFSETTO:+0100
TZNAME:CET
DTSTART:20241027T010000
END:STANDARD
END:VTIMEZONE
BEGIN:VEVENT
DTSTART;TZID=Europe/Stockholm:20240303T130000
DTEND;TZID=Europe/Stockholm:20240303T180000
DTSTAMP:20260423T101105
CREATED:20240219T094306Z
LAST-MODIFIED:20240912T084806Z
UID:4257-1709470800-1709488800@www.svenskakockarsforening.se
SUMMARY:SKF Småland
DESCRIPTION:Årsmöte \nDags att summera föreningsåret 2023. \nÅrsmöte Svenska Kockars förening Småland. \nVi startat med söndagsmiddag med efterföljande årsmöte. \nVarm välkomna önskar styrelsen. \nAnmäl ditt deltagande till sekreterare Jörgen Nilsson via mail n.j.h.nilsson@gmail.com \n 
URL:https://www.svenskakockarsforening.se/event/skf-smaland/
LOCATION:Korrö Restaurang\, Restaurang\,\, Linneryd\, 362 97\, Sverige
CATEGORIES:Distrikt Småland
ATTACH;FMTTYPE=image/png:https://www.svenskakockarsforening.se/wp-content/uploads/2024/01/SKF-eventlogo1.png
END:VEVENT
BEGIN:VEVENT
DTSTART;TZID=Europe/Stockholm:20240306T180000
DTEND;TZID=Europe/Stockholm:20240306T200000
DTSTAMP:20260423T101105
CREATED:20240114T120123Z
LAST-MODIFIED:20240114T120123Z
UID:2982-1709748000-1709755200@www.svenskakockarsforening.se
SUMMARY:SKF Östergötland
DESCRIPTION:Årsmöte för SKF Östergötland
URL:https://www.svenskakockarsforening.se/event/skf-ostergotland/
CATEGORIES:Distrikt Östergötland
ATTACH;FMTTYPE=image/png:https://www.svenskakockarsforening.se/wp-content/uploads/2024/01/SKF-eventlogo1.png
END:VEVENT
BEGIN:VEVENT
DTSTART;VALUE=DATE:20240309
DTEND;VALUE=DATE:20240310
DTSTAMP:20260423T101105
CREATED:20240114T115213Z
LAST-MODIFIED:20240114T115724Z
UID:2974-1709942400-1710028799@www.svenskakockarsforening.se
SUMMARY:SKF Skåne
DESCRIPTION:Möt SKF Skåne på scenen på Stora Villamässan & Vår Trädgård\, Svenska Mässan\, Hyllie\, Malmö
URL:https://www.svenskakockarsforening.se/event/skf-skane/
LOCATION:Svenska Mässan\, Hyllie\, Malmö\, Mässgatan 6\, Malmö\, 215 32\, Sverige
CATEGORIES:Distrikt Skåne
ATTACH;FMTTYPE=image/png:https://www.svenskakockarsforening.se/wp-content/uploads/2024/01/SKF-eventlogo1.png
END:VEVENT
BEGIN:VEVENT
DTSTART;VALUE=DATE:20240310
DTEND;VALUE=DATE:20240311
DTSTAMP:20260423T101105
CREATED:20240114T115435Z
LAST-MODIFIED:20240114T115435Z
UID:2978-1710028800-1710115199@www.svenskakockarsforening.se
SUMMARY:SKF Skåne
DESCRIPTION:Möt SKF Skåne på scenen på Stora Villamässan & Vår Trädgård\, Svenska Mässan\, Hyllie\, Malmö
URL:https://www.svenskakockarsforening.se/event/skf-skane-2/
LOCATION:Svenska Mässan\, Hyllie\, Malmö\, Mässgatan 6\, Malmö\, 215 32\, Sverige
CATEGORIES:Distrikt Skåne
ATTACH;FMTTYPE=image/png:https://www.svenskakockarsforening.se/wp-content/uploads/2024/01/SKF-eventlogo1.png
END:VEVENT
BEGIN:VEVENT
DTSTART;TZID=Europe/Stockholm:20240316T083000
DTEND;TZID=Europe/Stockholm:20240316T160000
DTSTAMP:20260423T101105
CREATED:20240114T121514Z
LAST-MODIFIED:20240114T121514Z
UID:2984-1710577800-1710604800@www.svenskakockarsforening.se
SUMMARY:SKF Östergötland
DESCRIPTION:Tävlingen Östgöta Kocken Junior går i Linköping på Anders Ljungstedtska gymnasiet.
URL:https://www.svenskakockarsforening.se/event/skf-ostergotland-2/
LOCATION:Anders Ljungstedtska gymnsiet\, Anders Ljungstedts gata 1\, Linköping\, 582 54
ATTACH;FMTTYPE=image/png:https://www.svenskakockarsforening.se/wp-content/uploads/2024/01/SKF-eventlogo1.png
END:VEVENT
BEGIN:VEVENT
DTSTART;TZID=Europe/Stockholm:20240319T180000
DTEND;TZID=Europe/Stockholm:20240319T200000
DTSTAMP:20260423T101105
CREATED:20240114T120008Z
LAST-MODIFIED:20240114T120008Z
UID:2980-1710871200-1710878400@www.svenskakockarsforening.se
SUMMARY:SKF Skåne
DESCRIPTION:Årsmöte för SKF Skåne
URL:https://www.svenskakockarsforening.se/event/skf-skane-3/
CATEGORIES:Distrikt Skåne
ATTACH;FMTTYPE=image/png:https://www.svenskakockarsforening.se/wp-content/uploads/2024/01/SKF-eventlogo1.png
END:VEVENT
BEGIN:VEVENT
DTSTART;TZID=Europe/Stockholm:20240324T130000
DTEND;TZID=Europe/Stockholm:20240324T150000
DTSTAMP:20260423T101105
CREATED:20240125T115451Z
LAST-MODIFIED:20240125T115451Z
UID:3377-1711285200-1711292400@www.svenskakockarsforening.se
SUMMARY:SKF Väst
DESCRIPTION:Årsmöte
URL:https://www.svenskakockarsforening.se/event/skf-vast-2/
ATTACH;FMTTYPE=image/png:https://www.svenskakockarsforening.se/wp-content/uploads/2024/01/SKF-eventlogo1.png
END:VEVENT
END:VCALENDAR