BEGIN:VCALENDAR
VERSION:2.0
PRODID:-//Svenska Kockars Förening - ECPv6.3.5//NONSGML v1.0//EN
CALSCALE:GREGORIAN
METHOD:PUBLISH
X-ORIGINAL-URL:https://www.svenskakockarsforening.se
X-WR-CALDESC:Events for Svenska Kockars Förening
REFRESH-INTERVAL;VALUE=DURATION:PT1H
X-Robots-Tag:noindex
X-PUBLISHED-TTL:PT1H
BEGIN:VTIMEZONE
TZID:Europe/Stockholm
BEGIN:DAYLIGHT
TZOFFSETFROM:+0100
TZOFFSETTO:+0200
TZNAME:CEST
DTSTART:20240331T010000
END:DAYLIGHT
BEGIN:STANDARD
TZOFFSETFROM:+0200
TZOFFSETTO:+0100
TZNAME:CET
DTSTART:20241027T010000
END:STANDARD
END:VTIMEZONE
BEGIN:VEVENT
DTSTART;TZID=Europe/Stockholm:20240813T080000
DTEND;TZID=Europe/Stockholm:20240813T170000
DTSTAMP:20260423T005949
CREATED:20240801T085515Z
LAST-MODIFIED:20240912T085632Z
UID:4269-1723536000-1723568400@www.svenskakockarsforening.se
SUMMARY:SKF Skåne
DESCRIPTION:Styrelsemöte. Digitalt
URL:https://www.svenskakockarsforening.se/event/skf-skane-10/
CATEGORIES:Distrikt Skåne
ATTACH;FMTTYPE=image/png:https://www.svenskakockarsforening.se/wp-content/uploads/2024/01/SKF-eventlogo1.png
END:VEVENT
BEGIN:VEVENT
DTSTART;VALUE=DATE:20240823
DTEND;VALUE=DATE:20240824
DTSTAMP:20260423T005949
CREATED:20240801T090207Z
LAST-MODIFIED:20240912T090328Z
UID:4279-1724371200-1724457599@www.svenskakockarsforening.se
SUMMARY:SKF Skåne
DESCRIPTION:Grillning med Stadsmissionen
URL:https://www.svenskakockarsforening.se/event/skf-skane-11/
LOCATION:Rörsjöparken\, Döbelnsgatan 8\, Malmö\, 21213
CATEGORIES:Distrikt Skåne
END:VEVENT
BEGIN:VEVENT
DTSTART;TZID=Europe/Stockholm:20240824T080000
DTEND;TZID=Europe/Stockholm:20240824T170000
DTSTAMP:20260423T005949
CREATED:20240827T090041Z
LAST-MODIFIED:20240912T090148Z
UID:4277-1724486400-1724518800@www.svenskakockarsforening.se
SUMMARY:YCC
DESCRIPTION:Digital kurs om fisk. Kontakta ditt distrikt om du vill vara med.
URL:https://www.svenskakockarsforening.se/event/ycc-8/
CATEGORIES:YCC
ATTACH;FMTTYPE=image/png:https://www.svenskakockarsforening.se/wp-content/uploads/2024/01/SKF-eventlogo1.png
END:VEVENT
END:VCALENDAR