BEGIN:VCALENDAR
VERSION:2.0
PRODID:-//Svenska Kockars Förening - ECPv6.3.5//NONSGML v1.0//EN
CALSCALE:GREGORIAN
METHOD:PUBLISH
X-WR-CALNAME:Svenska Kockars Förening
X-ORIGINAL-URL:https://www.svenskakockarsforening.se
X-WR-CALDESC:Events for Svenska Kockars Förening
REFRESH-INTERVAL;VALUE=DURATION:PT1H
X-Robots-Tag:noindex
X-PUBLISHED-TTL:PT1H
BEGIN:VTIMEZONE
TZID:Europe/Stockholm
BEGIN:DAYLIGHT
TZOFFSETFROM:+0100
TZOFFSETTO:+0200
TZNAME:CEST
DTSTART:20240331T010000
END:DAYLIGHT
BEGIN:STANDARD
TZOFFSETFROM:+0200
TZOFFSETTO:+0100
TZNAME:CET
DTSTART:20241027T010000
END:STANDARD
END:VTIMEZONE
BEGIN:VEVENT
DTSTART;VALUE=DATE:20240902
DTEND;VALUE=DATE:20240903
DTSTAMP:20260422T225650
CREATED:20240828T182524Z
LAST-MODIFIED:20240828T183227Z
UID:4114-1725235200-1725321599@www.svenskakockarsforening.se
SUMMARY:YCC
DESCRIPTION:Nordisk träff på Sterling Halibut i Stavanger Norge
URL:https://www.svenskakockarsforening.se/event/ycc/
CATEGORIES:YCC
ATTACH;FMTTYPE=image/png:https://www.svenskakockarsforening.se/wp-content/uploads/2024/01/SKF-eventlogo1.png
END:VEVENT
BEGIN:VEVENT
DTSTART;TZID=Europe/Stockholm:20240906T000000
DTEND;TZID=Europe/Stockholm:20240906T000000
DTSTAMP:20260422T225650
CREATED:20240828T184529Z
LAST-MODIFIED:20240828T184529Z
UID:4137-1725580800-1725580800@www.svenskakockarsforening.se
SUMMARY:SKF RIKS
DESCRIPTION:Utdelning av ”restaurangbranschens vardagshjälte” i Stockholm
URL:https://www.svenskakockarsforening.se/event/skf-riks/
CATEGORIES:Riks
ATTACH;FMTTYPE=image/webp:https://www.svenskakockarsforening.se/wp-content/uploads/2023/09/Textilia-logo.webp
END:VEVENT
BEGIN:VEVENT
DTSTART;TZID=Europe/Stockholm:20240909T190000
DTEND;TZID=Europe/Stockholm:20240909T190000
DTSTAMP:20260422T225650
CREATED:20240829T080517Z
LAST-MODIFIED:20240829T080517Z
UID:4146-1725908400-1725908400@www.svenskakockarsforening.se
SUMMARY:YCC
DESCRIPTION:Digitalt möte för YCC-ambassadörerna i distrikten\, \nRebecka och Emilia skickar ut information till er.
URL:https://www.svenskakockarsforening.se/event/ycc-7/
CATEGORIES:YCC
ATTACH;FMTTYPE=image/png:https://www.svenskakockarsforening.se/wp-content/uploads/2024/01/SKF-eventlogo1.png
END:VEVENT
BEGIN:VEVENT
DTSTART;TZID=Europe/Stockholm:20240912T000000
DTEND;TZID=Europe/Stockholm:20240912T000000
DTSTAMP:20260422T225650
CREATED:20240828T184323Z
LAST-MODIFIED:20240828T184323Z
UID:4134-1726099200-1726099200@www.svenskakockarsforening.se
SUMMARY:SKF Skåne
DESCRIPTION:Sponsorträff med Skåne Kulinar och Svenska kockars Förening på Lokstallarna i Malmö
URL:https://www.svenskakockarsforening.se/event/skf-skane-7/
LOCATION:Matverkstaden på Lokstallarna\, Bulltoftavägen 51\, Malmö\, 21222
CATEGORIES:Distrikt Skåne
ATTACH;FMTTYPE=image/png:https://www.svenskakockarsforening.se/wp-content/uploads/2024/01/SKF-eventlogo1.png
END:VEVENT
BEGIN:VEVENT
DTSTART;TZID=Europe/Stockholm:20240913T000000
DTEND;TZID=Europe/Stockholm:20240913T000000
DTSTAMP:20260422T225650
CREATED:20240828T184130Z
LAST-MODIFIED:20240828T184130Z
UID:4131-1726185600-1726185600@www.svenskakockarsforening.se
SUMMARY:SKF Skåne
DESCRIPTION:Grillning tillsammans med Skåne Stadsmission i Malmö
URL:https://www.svenskakockarsforening.se/event/skf-skane-6/
LOCATION:Rörsjöparken\, Döbelnsgatan 8\, Malmö\, 21213
CATEGORIES:Distrikt Skåne
ATTACH;FMTTYPE=image/png:https://www.svenskakockarsforening.se/wp-content/uploads/2024/01/SKF-eventlogo1.png
END:VEVENT
BEGIN:VEVENT
DTSTART;TZID=Europe/Stockholm:20240916T160000
DTEND;TZID=Europe/Stockholm:20240916T170000
DTSTAMP:20260422T225650
CREATED:20240828T182716Z
LAST-MODIFIED:20240828T182716Z
UID:4116-1726502400-1726506000@www.svenskakockarsforening.se
SUMMARY:YCC
DESCRIPTION:Digital knivslipning med Sundqvist på restaurangskolor i våra distrikt. \nTa kontakt med ditt distrikt om du vill vara med.
URL:https://www.svenskakockarsforening.se/event/ycc-2/
CATEGORIES:YCC
ATTACH;FMTTYPE=image/png:https://www.svenskakockarsforening.se/wp-content/uploads/2024/01/SKF-eventlogo1.png
END:VEVENT
BEGIN:VEVENT
DTSTART;VALUE=DATE:20240918
DTEND;VALUE=DATE:20240923
DTSTAMP:20260422T225650
CREATED:20240828T182820Z
LAST-MODIFIED:20240828T182820Z
UID:4118-1726617600-1727049599@www.svenskakockarsforening.se
SUMMARY:YCC
DESCRIPTION:Viltkurs i Norge för Nordiska YCC
URL:https://www.svenskakockarsforening.se/event/ycc-3/
CATEGORIES:YCC
ATTACH;FMTTYPE=image/png:https://www.svenskakockarsforening.se/wp-content/uploads/2024/01/SKF-eventlogo1.png
END:VEVENT
BEGIN:VEVENT
DTSTART;TZID=Europe/Stockholm:20240924T160000
DTEND;TZID=Europe/Stockholm:20240924T170000
DTSTAMP:20260422T225650
CREATED:20240828T182926Z
LAST-MODIFIED:20240918T135231Z
UID:4120-1727193600-1727197200@www.svenskakockarsforening.se
SUMMARY:YCC
DESCRIPTION:Digital kurs om fisk för alla restaurangelever och YCC-medlemmar. \nRestauratören Anthony Nelson från restaurang Blåregn i Sölvesborg kommer att hålla i detta. Anmäl er till nicole.gripenberg@svenskakockarsforening.se
URL:https://www.svenskakockarsforening.se/event/ycc-4/
CATEGORIES:YCC
ATTACH;FMTTYPE=image/png:https://www.svenskakockarsforening.se/wp-content/uploads/2024/01/SKF-eventlogo1.png
END:VEVENT
BEGIN:VEVENT
DTSTART;TZID=Europe/Stockholm:20240928T100000
DTEND;TZID=Europe/Stockholm:20240929T130000
DTSTAMP:20260422T225650
CREATED:20240902T085847Z
LAST-MODIFIED:20240912T090023Z
UID:4274-1727517600-1727614800@www.svenskakockarsforening.se
SUMMARY:SKF Småland
DESCRIPTION:Representantskapsmöte. \nSKF Småland bjuder i höst in till representantskapsmöte den 28-29 september. \nVid frågor och funderingar kontakt christian@gastgivaregarden.org
URL:https://www.svenskakockarsforening.se/event/skf-smaland-5/
LOCATION:JA Ranch
CATEGORIES:Distrikt Småland
ATTACH;FMTTYPE=image/jpeg:https://www.svenskakockarsforening.se/wp-content/uploads/2024/01/Ostergotland_nyhet_01_01.jpg
END:VEVENT
END:VCALENDAR